BEGIN:VCALENDAR
VERSION:2.0
PRODID:-//http://www.qld.raeme.org.au///NONSGML kigkonsult.se iCalcreator 2.10.15//
METHOD:PUBLISH
BEGIN:VEVENT
UID:20260422T081000AEST-7711rVz2hv@http://www.qld.raeme.org.au/
DTSTAMP:20260421T221000Z
DESCRIPTION:Kittyhawk Drive Chermside (off Hamilton Rd)\nThe meeting will b
 e held in the Board Room Level 2 via the lift\nParking is available. Membe
 rs are invited to the HQ Bistro at the Club for a meal and catch up follow
 ing the meeting.\nMore details are available by clicking on the Meeting fi
 le link below.&nbsp\; http://www.qld.raeme.org.au/index.php/notices/events
 /event/419-raq-monthly-meeting
DTSTART:20190904T073000Z
DTEND:20190904T093000Z
LOCATION:Kedron Wavell Services Club (61 Kittyhawk Drive\, Chermside QLD 40
 32\, Australia)
SUMMARY:RAQ Monthly Meeting
URL:http://www.qld.raeme.org.au/index.php/notices/events/event/419-raq-mont
 hly-meeting
END:VEVENT
END:VCALENDAR
